BEGIN:VCALENDAR
VERSION:2.0
PRODID:-//Kyritz macht. - ECPv4.9.7//NONSGML v1.0//EN
CALSCALE:GREGORIAN
METHOD:PUBLISH
X-WR-CALNAME:Kyritz macht.
X-ORIGINAL-URL:https://kyritz-macht.de
X-WR-CALDESC:Veranstaltungen im Kyritz macht.
BEGIN:VTIMEZONE
TZID:"UTC"
BEGIN:STANDARD
TZOFFSETFROM:+0000
TZOFFSETTO:+0000
TZNAME:UTC
DTSTART:20190101T000000
END:STANDARD
END:VTIMEZONE
BEGIN:VEVENT
DTSTART;TZID="UTC":20190821T180000
DTEND;TZID="UTC":20190821T200000
DTSTAMP:20260423T161712
CREATED:20190820T074848Z
LAST-MODIFIED:20190820T074848Z
UID:211-1566410400-1566417600@kyritz-macht.de
SUMMARY:Workshop "Rechte und Pflichten der Gemeindevertreter"
DESCRIPTION:Teilnehmerkreis: Vertreter aus Gumtow\, Wusterhausen/D.\, Kyritz \nReferent: Herr Graf\, Städte- und Gemeindebund \nWorkshop &#8222;Rechte und Pflichten der Gemeindevertreter&#8220;
URL:https://kyritz-macht.de/termin/workshop-rechte-und-pflichten-der-gemeindevertreter/
LOCATION:Kulturhaus Kyritz
END:VEVENT
END:VCALENDAR