BEGIN:VCALENDAR
VERSION:2.0
PRODID:-//Kyritz macht. - ECPv4.9.7//NONSGML v1.0//EN
CALSCALE:GREGORIAN
METHOD:PUBLISH
X-WR-CALNAME:Kyritz macht.
X-ORIGINAL-URL:https://kyritz-macht.de
X-WR-CALDESC:Veranstaltungen im Kyritz macht.
BEGIN:VTIMEZONE
TZID:"UTC"
BEGIN:STANDARD
TZOFFSETFROM:+0000
TZOFFSETTO:+0000
TZNAME:UTC
DTSTART:20190101T000000
END:STANDARD
END:VTIMEZONE
BEGIN:VEVENT
DTSTART;VALUE=DATE:20191206
DTEND;VALUE=DATE:20191209
DTSTAMP:20260423T094045
CREATED:20190823T101127Z
LAST-MODIFIED:20190823T101127Z
UID:293-1575590400-1575849599@kyritz-macht.de
SUMMARY:Weihnachtsmarkt Kyritz
DESCRIPTION:Weihnachtsmarkt Kyritz
URL:https://kyritz-macht.de/termin/weihnachtsmarkt-kyritz/
LOCATION:Marktplatz Kyritz
END:VEVENT
END:VCALENDAR