BEGIN:VCALENDAR
VERSION:2.0
PRODID:-//Kyritz macht. - ECPv4.9.7//NONSGML v1.0//EN
CALSCALE:GREGORIAN
METHOD:PUBLISH
X-WR-CALNAME:Kyritz macht.
X-ORIGINAL-URL:https://kyritz-macht.de
X-WR-CALDESC:Veranstaltungen im Kyritz macht.
BEGIN:VTIMEZONE
TZID:"UTC"
BEGIN:STANDARD
TZOFFSETFROM:+0000
TZOFFSETTO:+0000
TZNAME:UTC
DTSTART:20190101T000000
END:STANDARD
END:VTIMEZONE
BEGIN:VEVENT
DTSTART;TZID="UTC":20190918T183000
DTEND;TZID="UTC":20190918T203000
DTSTAMP:20260423T155459
CREATED:20190820T080228Z
LAST-MODIFIED:20190820T080228Z
UID:241-1568831400-1568838600@kyritz-macht.de
SUMMARY:Stadtverordnetenversammlung
DESCRIPTION:Stadtverordnetenversammlung
URL:https://kyritz-macht.de/termin/stadtverordnetenversammlung/
LOCATION:Rathaus Kyritz
END:VEVENT
END:VCALENDAR