BEGIN:VCALENDAR
VERSION:2.0
PRODID:-//Kyritz macht. - ECPv4.9.7//NONSGML v1.0//EN
CALSCALE:GREGORIAN
METHOD:PUBLISH
X-WR-CALNAME:Kyritz macht.
X-ORIGINAL-URL:https://kyritz-macht.de
X-WR-CALDESC:Veranstaltungen im Kyritz macht.
BEGIN:VTIMEZONE
TZID:"UTC"
BEGIN:STANDARD
TZOFFSETFROM:+0000
TZOFFSETTO:+0000
TZNAME:UTC
DTSTART:20190101T000000
END:STANDARD
END:VTIMEZONE
BEGIN:VEVENT
DTSTART;TZID="UTC":20190807T130000
DTEND;TZID="UTC":20190807T140000
DTSTAMP:20260423T162329
CREATED:20190807T000036Z
LAST-MODIFIED:20190820T074237Z
UID:193-1565182800-1565186400@kyritz-macht.de
SUMMARY:Spatenstich – Bau der neuen Haltestelle am Bürgerpark
DESCRIPTION:Spatenstich – Bau der neuen Haltestelle am Bürgerpark
URL:https://kyritz-macht.de/termin/spatenstich-buergerpark/
END:VEVENT
END:VCALENDAR