BEGIN:VCALENDAR
VERSION:2.0
PRODID:-//Kyritz macht. - ECPv4.9.7//NONSGML v1.0//EN
CALSCALE:GREGORIAN
METHOD:PUBLISH
X-WR-CALNAME:Kyritz macht.
X-ORIGINAL-URL:https://kyritz-macht.de
X-WR-CALDESC:Veranstaltungen im Kyritz macht.
BEGIN:VTIMEZONE
TZID:"UTC"
BEGIN:STANDARD
TZOFFSETFROM:+0000
TZOFFSETTO:+0000
TZNAME:UTC
DTSTART:20190101T000000
END:STANDARD
END:VTIMEZONE
BEGIN:VEVENT
DTSTART;TZID="UTC":20191202T140000
DTEND;TZID="UTC":20191202T170000
DTSTAMP:20260423T105847
CREATED:20190823T100954Z
LAST-MODIFIED:20190823T101044Z
UID:289-1575295200-1575306000@kyritz-macht.de
SUMMARY:Seniorenweihnachtsfeier der Stadt Kyritz
DESCRIPTION:Seniorenweihnachtsfeier der Stadt Kyritz
URL:https://kyritz-macht.de/termin/seniorenweihnachtsfeier-der-stadt-kyritz/
END:VEVENT
END:VCALENDAR