BEGIN:VCALENDAR
VERSION:2.0
PRODID:-//Kyritz macht. - ECPv4.9.7//NONSGML v1.0//EN
CALSCALE:GREGORIAN
METHOD:PUBLISH
X-WR-CALNAME:Kyritz macht.
X-ORIGINAL-URL:https://kyritz-macht.de
X-WR-CALDESC:Veranstaltungen im Kyritz macht.
BEGIN:VTIMEZONE
TZID:"UTC"
BEGIN:STANDARD
TZOFFSETFROM:+0000
TZOFFSETTO:+0000
TZNAME:UTC
DTSTART:20190101T000000
END:STANDARD
END:VTIMEZONE
BEGIN:VEVENT
DTSTART;TZID="UTC":20190831T100000
DTEND;TZID="UTC":20190831T170000
DTSTAMP:20260423T145308
CREATED:20190820T075519Z
LAST-MODIFIED:20190820T075519Z
UID:222-1567245600-1567270800@kyritz-macht.de
SUMMARY:Markt der regionalen Möglichkeiten
DESCRIPTION:Markt der regionalen Möglichkeiten
URL:https://kyritz-macht.de/termin/markt-der-regionalen-moeglichkeiten/
LOCATION:Marktplatz Kyritz
END:VEVENT
END:VCALENDAR