BEGIN:VCALENDAR
VERSION:2.0
PRODID:-//Kyritz macht. - ECPv4.9.7//NONSGML v1.0//EN
CALSCALE:GREGORIAN
METHOD:PUBLISH
X-WR-CALNAME:Kyritz macht.
X-ORIGINAL-URL:https://kyritz-macht.de
X-WR-CALDESC:Veranstaltungen im Kyritz macht.
BEGIN:VTIMEZONE
TZID:"UTC"
BEGIN:STANDARD
TZOFFSETFROM:+0000
TZOFFSETTO:+0000
TZNAME:UTC
DTSTART:20190101T000000
END:STANDARD
END:VTIMEZONE
BEGIN:VEVENT
DTSTART;VALUE=DATE:20190817
DTEND;VALUE=DATE:20190819
DTSTAMP:20260423T174125
CREATED:20190820T074610Z
LAST-MODIFIED:20190820T074610Z
UID:206-1566000000-1566172799@kyritz-macht.de
SUMMARY:Kyritzer Seefest
DESCRIPTION:Kyritzer Seefest
URL:https://kyritz-macht.de/termin/kyritzer-seefest/
LOCATION:Seepromenade und Strandbad Kyritz
END:VEVENT
END:VCALENDAR