BEGIN:VCALENDAR
VERSION:2.0
PRODID:-//Kyritz macht. - ECPv4.9.7//NONSGML v1.0//EN
CALSCALE:GREGORIAN
METHOD:PUBLISH
X-WR-CALNAME:Kyritz macht.
X-ORIGINAL-URL:https://kyritz-macht.de
X-WR-CALDESC:Veranstaltungen im Kyritz macht.
BEGIN:VTIMEZONE
TZID:"UTC"
BEGIN:STANDARD
TZOFFSETFROM:+0000
TZOFFSETTO:+0000
TZNAME:UTC
DTSTART:20190101T000000
END:STANDARD
END:VTIMEZONE
BEGIN:VEVENT
DTSTART;TZID="UTC":20190822T180000
DTEND;TZID="UTC":20190822T200000
DTSTAMP:20260423T155815
CREATED:20190820T074945Z
LAST-MODIFIED:20190820T074945Z
UID:214-1566496800-1566504000@kyritz-macht.de
SUMMARY:INSEK – 2. offene Werkstatt zum integrierten Stadtkonzept
DESCRIPTION:INSEK – 2. offene Werkstatt zum integrierten Stadtkonzept
URL:https://kyritz-macht.de/termin/insek-2-offene-werkstatt-zum-integrierten-stadtkonzept/
LOCATION:WBG Kyritz
END:VEVENT
END:VCALENDAR