BEGIN:VCALENDAR
VERSION:2.0
PRODID:-//Kyritz macht. - ECPv4.9.7//NONSGML v1.0//EN
CALSCALE:GREGORIAN
METHOD:PUBLISH
X-WR-CALNAME:Kyritz macht.
X-ORIGINAL-URL:https://kyritz-macht.de
X-WR-CALDESC:Veranstaltungen im Kyritz macht.
BEGIN:VTIMEZONE
TZID:"UTC"
BEGIN:STANDARD
TZOFFSETFROM:+0000
TZOFFSETTO:+0000
TZNAME:UTC
DTSTART:20190101T000000
END:STANDARD
END:VTIMEZONE
BEGIN:VEVENT
DTSTART;TZID="UTC":20190903T183000
DTEND;TZID="UTC":20190903T203000
DTSTAMP:20260423T144422
CREATED:20190820T075617Z
LAST-MODIFIED:20190820T075617Z
UID:227-1567535400-1567542600@kyritz-macht.de
SUMMARY:Hauptausschuss
DESCRIPTION:Hauptausschuss
URL:https://kyritz-macht.de/termin/hauptausschuss/
LOCATION:Rathaus Kyritz
END:VEVENT
END:VCALENDAR