BEGIN:VCALENDAR
VERSION:2.0
PRODID:-//Kyritz macht. - ECPv4.9.7//NONSGML v1.0//EN
CALSCALE:GREGORIAN
METHOD:PUBLISH
X-WR-CALNAME:Kyritz macht.
X-ORIGINAL-URL:https://kyritz-macht.de
X-WR-CALDESC:Veranstaltungen im Kyritz macht.
BEGIN:VTIMEZONE
TZID:"UTC"
BEGIN:STANDARD
TZOFFSETFROM:+0000
TZOFFSETTO:+0000
TZNAME:UTC
DTSTART:20190101T000000
END:STANDARD
END:VTIMEZONE
BEGIN:VEVENT
DTSTART;VALUE=DATE:20190904
DTEND;VALUE=DATE:20190905
DTSTAMP:20260423T145446
CREATED:20190820T075813Z
LAST-MODIFIED:20190820T075813Z
UID:229-1567555200-1567641599@kyritz-macht.de
SUMMARY:Fraktionssitzung Kyritz macht.
DESCRIPTION:Fraktionssitzung Kyritz macht.
URL:https://kyritz-macht.de/termin/fraktionssitzung-kyritz-macht-2/
END:VEVENT
END:VCALENDAR