BEGIN:VCALENDAR
VERSION:2.0
PRODID:-//Kyritz macht. - ECPv4.9.7//NONSGML v1.0//EN
CALSCALE:GREGORIAN
METHOD:PUBLISH
X-WR-CALNAME:Kyritz macht.
X-ORIGINAL-URL:https://kyritz-macht.de
X-WR-CALDESC:Veranstaltungen im Kyritz macht.
BEGIN:VTIMEZONE
TZID:"UTC"
BEGIN:STANDARD
TZOFFSETFROM:+0000
TZOFFSETTO:+0000
TZNAME:UTC
DTSTART:20190101T000000
END:STANDARD
END:VTIMEZONE
BEGIN:VEVENT
DTSTART;TZID="UTC":20190830T180000
DTEND;TZID="UTC":20190830T230000
DTSTAMP:20260423T143132
CREATED:20190820T075402Z
LAST-MODIFIED:20190820T075435Z
UID:218-1567188000-1567206000@kyritz-macht.de
SUMMARY:Waldkino – Auftaktveranstaltung zum Markt der regionalen Möglichkeiten
DESCRIPTION:Schaut euch alle Informationen zur Veranstaltung auf Facebook an! \nWaldkino – Auftaktveranstaltung zum Markt der regionalen Möglichkeiten
URL:https://kyritz-macht.de/termin/auftaktveranstaltung-zum-markt-der-regionalen-moeglichkeiten/
LOCATION:Waldkino Kyritz\, Am Kugelfangberg 1\, Kyritz\, 16866
END:VEVENT
END:VCALENDAR